Package: anglemania Version: 1.0.0 Command: /Library/Frameworks/R.framework/Resources/bin/R CMD build --keep-empty-dirs --no-resave-data anglemania StartedAt: 2025-11-10 15:37:21 -0500 (Mon, 10 Nov 2025) EndedAt: 2025-11-10 15:43:55 -0500 (Mon, 10 Nov 2025) EllapsedTime: 394.3 seconds RetCode: 0 Status: OK PackageFile: anglemania_1.0.0.tar.gz PackageFileSize: 7.437 MiB