Package: anansi Version: 0.99.4 Command: /home/biocbuild/R/R/bin/R CMD INSTALL anansi StartedAt: 2025-10-23 20:45:07 -0000 (Thu, 23 Oct 2025) EndedAt: 2025-10-23 20:45:54 -0000 (Thu, 23 Oct 2025) EllapsedTime: 47.2 seconds RetCode: 0 Status: OK