Package: anansi Version: 0.99.4 Command: /home/biocbuild/R/R/bin/R CMD build --keep-empty-dirs --no-resave-data anansi StartedAt: 2025-10-23 21:40:49 -0000 (Thu, 23 Oct 2025) EndedAt: 2025-10-23 21:42:28 -0000 (Thu, 23 Oct 2025) EllapsedTime: 99.0 seconds RetCode: 0 Status: OK PackageFile: anansi_0.99.4.tar.gz PackageFileSize: 3.125 MiB