Package: anansi Version: 0.99.4 Command: /home/biocbuild/bbs-3.22-bioc/R/bin/R CMD INSTALL anansi StartedAt: 2025-10-21 15:27:33 -0400 (Tue, 21 Oct 2025) EndedAt: 2025-10-21 15:28:08 -0400 (Tue, 21 Oct 2025) EllapsedTime: 35.5 seconds RetCode: 0 Status: OK