Package: anansi Version: 0.99.4 Command: /home/biocbuild/bbs-3.22-bioc/R/bin/R CMD check --install=check:anansi.install-out.txt --library=/home/biocbuild/bbs-3.22-bioc/R/site-library --timings anansi_0.99.4.tar.gz StartedAt: 2025-10-21 21:00:19 -0400 (Tue, 21 Oct 2025) EndedAt: 2025-10-21 21:05:36 -0400 (Tue, 21 Oct 2025) EllapsedTime: 316.4 seconds RetCode: 0 Status: OK CheckDir: anansi.Rcheck Warnings: 0