Package: anansi Version: 0.99.4 Command: rm -rf anansi.buildbin-libdir && mkdir anansi.buildbin-libdir && /Users/biocbuild/BBS/utils/build-universal.sh anansi_0.99.4.tar.gz /Library/Frameworks/R.framework/Resources/bin/R anansi.buildbin-libdir StartedAt: 2025-10-21 22:52:04 -0400 (Tue, 21 Oct 2025) EndedAt: 2025-10-21 22:52:20 -0400 (Tue, 21 Oct 2025) EllapsedTime: 16.4 seconds RetCode: 0 Status: OK PackageFile: anansi_0.99.4.tgz PackageFileSize: 4.918 MiB