Package: amplican Version: 1.31.2 Command: rm -rf amplican.buildbin-libdir && mkdir amplican.buildbin-libdir && F:\biocbuild\bbs-3.22-bioc\R\bin\R.exe CMD INSTALL --build --library=amplican.buildbin-libdir amplican_1.31.2.tar.gz StartedAt: 2025-08-15 09:42:56 -0400 (Fri, 15 Aug 2025) EndedAt: 2025-08-15 09:44:19 -0400 (Fri, 15 Aug 2025) EllapsedTime: 82.3 seconds RetCode: 0 Status: OK PackageFile: amplican_1.31.2.zip PackageFileSize: 5.596 MiB