Package: altcdfenvs Version: 2.72.0 Command: /home/biocbuild/bbs-3.22-bioc/R/bin/R CMD INSTALL altcdfenvs StartedAt: 2025-11-17 17:15:49 -0500 (Mon, 17 Nov 2025) EndedAt: 2025-11-17 17:16:03 -0500 (Mon, 17 Nov 2025) EllapsedTime: 13.6 seconds RetCode: 0 Status: OK