Package: altcdfenvs Version: 2.72.0 Command: /home/biocbuild/bbs-3.22-bioc/R/bin/R CMD build --keep-empty-dirs --no-resave-data --md5 altcdfenvs StartedAt: 2025-11-17 19:22:42 -0500 (Mon, 17 Nov 2025) EndedAt: 2025-11-17 19:23:28 -0500 (Mon, 17 Nov 2025) EllapsedTime: 46.0 seconds RetCode: 0 Status: OK PackageFile: altcdfenvs_2.72.0.tar.gz PackageFileSize: 670.8 KiB