Package: altcdfenvs Version: 2.72.0 Command: /Library/Frameworks/R.framework/Resources/bin/R CMD INSTALL altcdfenvs StartedAt: 2025-11-03 15:22:24 -0500 (Mon, 03 Nov 2025) EndedAt: 2025-11-03 15:22:45 -0500 (Mon, 03 Nov 2025) EllapsedTime: 21.9 seconds RetCode: 0 Status: OK