Package: altcdfenvs Version: 2.72.0 Command: /Library/Frameworks/R.framework/Resources/bin/R CMD check --install=check:altcdfenvs.install-out.txt --library=/Library/Frameworks/R.framework/Resources/library --no-vignettes --timings altcdfenvs_2.72.0.tar.gz StartedAt: 2025-11-18 02:32:25 -0500 (Tue, 18 Nov 2025) EndedAt: 2025-11-18 02:33:16 -0500 (Tue, 18 Nov 2025) EllapsedTime: 51.5 seconds RetCode: 0 Status: OK CheckDir: altcdfenvs.Rcheck Warnings: 0