Package: altcdfenvs Version: 2.72.0 Command: /Library/Frameworks/R.framework/Resources/bin/R CMD build --keep-empty-dirs --no-resave-data altcdfenvs StartedAt: 2025-11-17 18:58:33 -0500 (Mon, 17 Nov 2025) EndedAt: 2025-11-17 18:58:54 -0500 (Mon, 17 Nov 2025) EllapsedTime: 21.2 seconds RetCode: 0 Status: OK PackageFile: altcdfenvs_2.72.0.tar.gz PackageFileSize: 669.4 KiB