Package: altcdfenvs Version: 2.72.0 Command: rm -rf altcdfenvs.buildbin-libdir && mkdir altcdfenvs.buildbin-libdir && /Users/biocbuild/BBS/utils/build-universal.sh altcdfenvs_2.72.0.tar.gz /Library/Frameworks/R.framework/Resources/bin/R altcdfenvs.buildbin-libdir StartedAt: 2025-11-18 15:05:09 -0500 (Tue, 18 Nov 2025) EndedAt: 2025-11-18 15:05:17 -0500 (Tue, 18 Nov 2025) EllapsedTime: 8.1 seconds RetCode: 0 Status: OK PackageFile: altcdfenvs_2.72.0.tgz PackageFileSize: 1.105 MiB