Package: altcdfenvs Version: 2.72.0 Maintainer: Laurent Gautier MaintainerEmail: lgautier at gmail.com git_url: https://git.bioconductor.org/packages/altcdfenvs git_branch: RELEASE_3_22 git_last_commit: 0c41761 git_last_commit_date: 2025-10-29 09:54:38 -0500 (Wed, 29 Oct 2025)