Package: alevinQC Version: 1.25.1 Command: /Library/Frameworks/R.framework/Resources/bin/R CMD INSTALL alevinQC StartedAt: 2025-10-23 15:05:49 -0400 (Thu, 23 Oct 2025) EndedAt: 2025-10-23 15:05:57 -0400 (Thu, 23 Oct 2025) EllapsedTime: 7.6 seconds RetCode: 0 Status: OK