Package: alevinQC Version: 1.25.1 Command: /Library/Frameworks/R.framework/Resources/bin/R CMD check --install=check:alevinQC.install-out.txt --library=/Library/Frameworks/R.framework/Resources/library --no-vignettes --timings alevinQC_1.25.1.tar.gz StartedAt: 2025-10-23 18:29:34 -0400 (Thu, 23 Oct 2025) EndedAt: 2025-10-23 18:30:42 -0400 (Thu, 23 Oct 2025) EllapsedTime: 67.9 seconds RetCode: 0 Status: OK CheckDir: alevinQC.Rcheck Warnings: 0