Package: alabaster Version: 1.9.0 Command: /home/biocbuild/R/R/bin/R CMD INSTALL alabaster StartedAt: 2025-10-23 21:24:28 -0000 (Thu, 23 Oct 2025) EndedAt: 2025-10-23 21:25:29 -0000 (Thu, 23 Oct 2025) EllapsedTime: 61.0 seconds RetCode: 0 Status: OK