Package: alabaster Version: 1.9.0 Command: /home/biocbuild/R/R/bin/R CMD build --keep-empty-dirs --no-resave-data alabaster StartedAt: 2025-10-23 21:38:49 -0000 (Thu, 23 Oct 2025) EndedAt: 2025-10-23 21:39:48 -0000 (Thu, 23 Oct 2025) EllapsedTime: 59.0 seconds RetCode: 0 Status: OK PackageFile: alabaster_1.9.0.tar.gz PackageFileSize: 239 KiB