Package: alabaster Version: 1.9.0 Command: /Library/Frameworks/R.framework/Resources/bin/R CMD check --install=check:alabaster.install-out.txt --library=/Library/Frameworks/R.framework/Resources/library --no-vignettes --timings alabaster_1.9.0.tar.gz StartedAt: 2025-10-27 19:50:14 -0400 (Mon, 27 Oct 2025) EndedAt: 2025-10-27 19:54:34 -0400 (Mon, 27 Oct 2025) EllapsedTime: 259.9 seconds RetCode: 0 Status: OK CheckDir: alabaster.Rcheck Warnings: 0