Package: alabaster Version: 1.9.0 Command: rm -rf alabaster.buildbin-libdir && mkdir alabaster.buildbin-libdir && /Users/biocbuild/BBS/utils/build-universal.sh alabaster_1.9.0.tar.gz /Library/Frameworks/R.framework/Resources/bin/R alabaster.buildbin-libdir StartedAt: 2025-10-25 01:27:11 -0400 (Sat, 25 Oct 2025) EndedAt: 2025-10-25 01:28:17 -0400 (Sat, 25 Oct 2025) EllapsedTime: 66.2 seconds RetCode: 0 Status: OK PackageFile: alabaster_1.9.0.tgz PackageFileSize: 221.4 KiB