Package: alabaster.vcf Version: 1.9.0 Command: /home/biocbuild/R/R/bin/R CMD INSTALL alabaster.vcf StartedAt: 2025-10-16 22:20:51 -0000 (Thu, 16 Oct 2025) EndedAt: 2025-10-16 22:21:51 -0000 (Thu, 16 Oct 2025) EllapsedTime: 59.8 seconds RetCode: 0 Status: OK