Package: alabaster.vcf Version: 1.9.0 Command: /home/biocbuild/R/R/bin/R CMD build --keep-empty-dirs --no-resave-data alabaster.vcf StartedAt: 2025-10-16 22:56:05 -0000 (Thu, 16 Oct 2025) EndedAt: 2025-10-16 22:57:32 -0000 (Thu, 16 Oct 2025) EllapsedTime: 87.0 seconds RetCode: 0 Status: OK PackageFile: alabaster.vcf_1.9.0.tar.gz PackageFileSize: 247.2 KiB