Package: alabaster.vcf Version: 1.9.0 Command: F:\biocbuild\bbs-3.22-bioc\R\bin\R.exe CMD check --no-multiarch --install=check:alabaster.vcf.install-out.txt --library=F:\biocbuild\bbs-3.22-bioc\R\library --no-vignettes --timings alabaster.vcf_1.9.0.tar.gz StartedAt: 2025-08-15 00:25:13 -0400 (Fri, 15 Aug 2025) EndedAt: 2025-08-15 00:32:41 -0400 (Fri, 15 Aug 2025) EllapsedTime: 447.8 seconds RetCode: 0 Status: OK CheckDir: alabaster.vcf.Rcheck Warnings: 0