Package: alabaster.vcf Version: 1.9.0 Command: /home/biocbuild/bbs-3.22-bioc/R/bin/R CMD check --install=check:alabaster.vcf.install-out.txt --library=/home/biocbuild/bbs-3.22-bioc/R/site-library --timings alabaster.vcf_1.9.0.tar.gz StartedAt: 2025-10-19 20:57:34 -0400 (Sun, 19 Oct 2025) EndedAt: 2025-10-19 21:03:30 -0400 (Sun, 19 Oct 2025) EllapsedTime: 356.4 seconds RetCode: 0 Status: OK CheckDir: alabaster.vcf.Rcheck Warnings: 0