Package: alabaster.vcf Version: 1.9.0 Command: /Library/Frameworks/R.framework/Resources/bin/R CMD INSTALL alabaster.vcf StartedAt: 2025-10-19 15:49:39 -0400 (Sun, 19 Oct 2025) EndedAt: 2025-10-19 15:50:41 -0400 (Sun, 19 Oct 2025) EllapsedTime: 62.0 seconds RetCode: 0 Status: OK