Package: alabaster.vcf Version: 1.9.0 Command: rm -rf alabaster.vcf.buildbin-libdir && mkdir alabaster.vcf.buildbin-libdir && /Users/biocbuild/BBS/utils/build-universal.sh alabaster.vcf_1.9.0.tar.gz /Library/Frameworks/R.framework/Resources/bin/R alabaster.vcf.buildbin-libdir StartedAt: 2025-10-18 02:44:43 -0400 (Sat, 18 Oct 2025) EndedAt: 2025-10-18 02:45:48 -0400 (Sat, 18 Oct 2025) EllapsedTime: 65.5 seconds RetCode: 0 Status: OK PackageFile: alabaster.vcf_1.9.0.tgz PackageFileSize: 346.1 KiB