Package: alabaster.vcf Version: 1.9.0 Command: /Library/Frameworks/R.framework/Resources/bin/R CMD INSTALL alabaster.vcf StartedAt: 2025-10-17 15:30:57 -0400 (Fri, 17 Oct 2025) EndedAt: 2025-10-17 15:31:16 -0400 (Fri, 17 Oct 2025) EllapsedTime: 18.7 seconds RetCode: 0 Status: OK