Package: alabaster.vcf Version: 1.9.0 Command: /Library/Frameworks/R.framework/Resources/bin/R CMD check --install=check:alabaster.vcf.install-out.txt --library=/Library/Frameworks/R.framework/Resources/library --no-vignettes --timings alabaster.vcf_1.9.0.tar.gz StartedAt: 2025-10-19 18:22:32 -0400 (Sun, 19 Oct 2025) EndedAt: 2025-10-19 18:24:50 -0400 (Sun, 19 Oct 2025) EllapsedTime: 137.6 seconds RetCode: 0 Status: OK CheckDir: alabaster.vcf.Rcheck Warnings: 0