Package: alabaster.vcf Version: 1.9.0 Maintainer: Aaron Lun MaintainerEmail: infinite.monkeys.with.keyboards at gmail.com git_url: https://git.bioconductor.org/packages/alabaster.vcf git_branch: devel git_last_commit: 5efb770 git_last_commit_date: 2025-04-15 13:10:33 -0400 (Tue, 15 Apr 2025)