Package: alabaster.string Version: 1.10.0 Command: /Library/Frameworks/R.framework/Resources/bin/R CMD INSTALL alabaster.string StartedAt: 2025-11-03 15:51:22 -0500 (Mon, 03 Nov 2025) EndedAt: 2025-11-03 15:51:39 -0500 (Mon, 03 Nov 2025) EllapsedTime: 16.6 seconds RetCode: 0 Status: OK