Package: alabaster.string Version: 1.10.0 Command: /Library/Frameworks/R.framework/Resources/bin/R CMD check --install=check:alabaster.string.install-out.txt --library=/Library/Frameworks/R.framework/Resources/library --no-vignettes --timings alabaster.string_1.10.0.tar.gz StartedAt: 2025-11-03 19:26:27 -0500 (Mon, 03 Nov 2025) EndedAt: 2025-11-03 19:28:04 -0500 (Mon, 03 Nov 2025) EllapsedTime: 96.9 seconds RetCode: 0 Status: OK CheckDir: alabaster.string.Rcheck Warnings: 0