Package: alabaster.string Version: 1.10.0 Command: /Library/Frameworks/R.framework/Resources/bin/R CMD build --keep-empty-dirs --no-resave-data alabaster.string StartedAt: 2025-11-03 16:02:27 -0500 (Mon, 03 Nov 2025) EndedAt: 2025-11-03 16:02:47 -0500 (Mon, 03 Nov 2025) EllapsedTime: 20.5 seconds RetCode: 0 Status: OK PackageFile: alabaster.string_1.10.0.tar.gz PackageFileSize: 220.2 KiB