Package: alabaster.se Version: 1.9.0 Command: /home/biocbuild/R/R/bin/R CMD check --install=check:alabaster.se.install-out.txt --library=/home/biocbuild/R/R/site-library --no-vignettes --timings alabaster.se_1.9.0.tar.gz StartedAt: 2025-10-21 04:23:44 -0000 (Tue, 21 Oct 2025) EndedAt: 2025-10-21 04:27:59 -0000 (Tue, 21 Oct 2025) EllapsedTime: 255.2 seconds RetCode: 0 Status: OK CheckDir: alabaster.se.Rcheck Warnings: 0