Package: alabaster.se Version: 1.9.0 Command: chmod a+r alabaster.se -R && F:\biocbuild\bbs-3.22-bioc\R\bin\R.exe CMD build --keep-empty-dirs --no-resave-data alabaster.se StartedAt: 2025-08-14 18:23:56 -0400 (Thu, 14 Aug 2025) EndedAt: 2025-08-14 18:24:47 -0400 (Thu, 14 Aug 2025) EllapsedTime: 50.9 seconds RetCode: 0 Status: OK PackageFile: alabaster.se_1.9.0.tar.gz PackageFileSize: 225.2 KiB