Package: alabaster.se Version: 1.9.0 Command: rm -rf alabaster.se.buildbin-libdir && mkdir alabaster.se.buildbin-libdir && F:\biocbuild\bbs-3.22-bioc\R\bin\R.exe CMD INSTALL --build --library=alabaster.se.buildbin-libdir alabaster.se_1.9.0.tar.gz StartedAt: 2025-08-15 09:42:15 -0400 (Fri, 15 Aug 2025) EndedAt: 2025-08-15 09:42:56 -0400 (Fri, 15 Aug 2025) EllapsedTime: 41.0 seconds RetCode: 0 Status: OK PackageFile: alabaster.se_1.9.0.zip PackageFileSize: 308.6 KiB