Package: alabaster.se Version: 1.9.0 Command: /home/biocbuild/bbs-3.22-bioc/R/bin/R CMD INSTALL alabaster.se StartedAt: 2025-10-22 15:36:33 -0400 (Wed, 22 Oct 2025) EndedAt: 2025-10-22 15:36:59 -0400 (Wed, 22 Oct 2025) EllapsedTime: 25.5 seconds RetCode: 0 Status: OK