Package: alabaster.se Version: 1.9.0 Command: /Library/Frameworks/R.framework/Resources/bin/R CMD build --keep-empty-dirs --no-resave-data alabaster.se StartedAt: 2025-10-23 15:58:58 -0400 (Thu, 23 Oct 2025) EndedAt: 2025-10-23 15:59:41 -0400 (Thu, 23 Oct 2025) EllapsedTime: 43.5 seconds RetCode: 0 Status: OK PackageFile: alabaster.se_1.9.0.tar.gz PackageFileSize: 225 KiB