Package: alabaster.se Version: 1.9.0 Command: /Library/Frameworks/R.framework/Resources/bin/R CMD INSTALL alabaster.se StartedAt: 2025-10-24 15:20:49 -0400 (Fri, 24 Oct 2025) EndedAt: 2025-10-24 15:21:00 -0400 (Fri, 24 Oct 2025) EllapsedTime: 11.0 seconds RetCode: 0 Status: OK