Package: alabaster.se Version: 1.9.0 Command: /Library/Frameworks/R.framework/Resources/bin/R CMD check --install=check:alabaster.se.install-out.txt --library=/Library/Frameworks/R.framework/Resources/library --no-vignettes --timings alabaster.se_1.9.0.tar.gz StartedAt: 2025-10-24 18:25:09 -0400 (Fri, 24 Oct 2025) EndedAt: 2025-10-24 18:26:25 -0400 (Fri, 24 Oct 2025) EllapsedTime: 75.8 seconds RetCode: 0 Status: OK CheckDir: alabaster.se.Rcheck Warnings: 0