Package: alabaster.se Version: 1.9.0 Command: /Library/Frameworks/R.framework/Resources/bin/R CMD build --keep-empty-dirs --no-resave-data alabaster.se StartedAt: 2025-10-24 15:39:28 -0400 (Fri, 24 Oct 2025) EndedAt: 2025-10-24 15:39:42 -0400 (Fri, 24 Oct 2025) EllapsedTime: 14.1 seconds RetCode: 0 Status: OK PackageFile: alabaster.se_1.9.0.tar.gz PackageFileSize: 225 KiB