Package: alabaster.schemas Version: 1.9.0 Command: /home/biocbuild/R/R/bin/R CMD INSTALL alabaster.schemas StartedAt: 2025-10-20 20:10:17 -0000 (Mon, 20 Oct 2025) EndedAt: 2025-10-20 20:10:51 -0000 (Mon, 20 Oct 2025) EllapsedTime: 34.0 seconds RetCode: 0 Status: OK