Package: alabaster.schemas Version: 1.9.0 Command: chmod a+r alabaster.schemas -R && F:\biocbuild\bbs-3.22-bioc\R\bin\R.exe CMD build --keep-empty-dirs --no-resave-data alabaster.schemas StartedAt: 2025-08-14 18:23:46 -0400 (Thu, 14 Aug 2025) EndedAt: 2025-08-14 18:23:55 -0400 (Thu, 14 Aug 2025) EllapsedTime: 9.0 seconds RetCode: 0 Status: OK PackageFile: alabaster.schemas_1.9.0.tar.gz PackageFileSize: 240 KiB