Package: alabaster.schemas Version: 1.9.0 Command: /home/biocbuild/bbs-3.22-bioc/R/bin/R CMD INSTALL alabaster.schemas StartedAt: 2025-10-19 15:04:07 -0400 (Sun, 19 Oct 2025) EndedAt: 2025-10-19 15:04:22 -0400 (Sun, 19 Oct 2025) EllapsedTime: 15.4 seconds RetCode: 0 Status: OK