Package: alabaster.schemas Version: 1.9.0 Command: /Library/Frameworks/R.framework/Resources/bin/R CMD INSTALL alabaster.schemas StartedAt: 2025-10-19 15:06:49 -0400 (Sun, 19 Oct 2025) EndedAt: 2025-10-19 15:07:33 -0400 (Sun, 19 Oct 2025) EllapsedTime: 43.2 seconds RetCode: 0 Status: OK