Package: alabaster.schemas Version: 1.9.0 Command: /Library/Frameworks/R.framework/Resources/bin/R CMD check --install=check:alabaster.schemas.install-out.txt --library=/Library/Frameworks/R.framework/Resources/library --no-vignettes --timings alabaster.schemas_1.9.0.tar.gz StartedAt: 2025-10-19 20:16:20 -0400 (Sun, 19 Oct 2025) EndedAt: 2025-10-19 20:16:38 -0400 (Sun, 19 Oct 2025) EllapsedTime: 18.3 seconds RetCode: 0 Status: OK CheckDir: alabaster.schemas.Rcheck Warnings: 0