Package: alabaster.schemas Version: 1.9.0 Command: /Library/Frameworks/R.framework/Resources/bin/R CMD build --keep-empty-dirs --no-resave-data alabaster.schemas StartedAt: 2025-10-19 16:01:09 -0400 (Sun, 19 Oct 2025) EndedAt: 2025-10-19 16:01:16 -0400 (Sun, 19 Oct 2025) EllapsedTime: 6.9 seconds RetCode: 0 Status: OK PackageFile: alabaster.schemas_1.9.0.tar.gz PackageFileSize: 239.9 KiB