Package: alabaster.schemas Version: 1.9.0 Command: /Library/Frameworks/R.framework/Resources/bin/R CMD build --keep-empty-dirs --no-resave-data alabaster.schemas StartedAt: 2025-10-21 15:37:20 -0400 (Tue, 21 Oct 2025) EndedAt: 2025-10-21 15:37:22 -0400 (Tue, 21 Oct 2025) EllapsedTime: 2.0 seconds RetCode: 0 Status: OK PackageFile: alabaster.schemas_1.9.0.tar.gz PackageFileSize: 239.9 KiB