Package: alabaster.schemas Version: 1.9.0 Command: rm -rf alabaster.schemas.buildbin-libdir && mkdir alabaster.schemas.buildbin-libdir && /Users/biocbuild/BBS/utils/build-universal.sh alabaster.schemas_1.9.0.tar.gz /Library/Frameworks/R.framework/Resources/bin/R alabaster.schemas.buildbin-libdir StartedAt: 2025-10-21 22:51:49 -0400 (Tue, 21 Oct 2025) EndedAt: 2025-10-21 22:51:51 -0400 (Tue, 21 Oct 2025) EllapsedTime: 2.0 seconds RetCode: 0 Status: OK PackageFile: alabaster.schemas_1.9.0.tgz PackageFileSize: 245.1 KiB