Package: alabaster.sce Version: 1.9.0 Command: /home/biocbuild/R/R/bin/R CMD check --install=check:alabaster.sce.install-out.txt --library=/home/biocbuild/R/R/site-library --no-vignettes --timings alabaster.sce_1.9.0.tar.gz StartedAt: 2025-10-21 04:23:27 -0000 (Tue, 21 Oct 2025) EndedAt: 2025-10-21 04:27:53 -0000 (Tue, 21 Oct 2025) EllapsedTime: 266.2 seconds RetCode: 0 Status: OK CheckDir: alabaster.sce.Rcheck Warnings: 0