Package: alabaster.matrix Version: 1.9.0 Command: /home/biocbuild/R/R/bin/R CMD INSTALL alabaster.matrix StartedAt: 2025-10-16 21:48:28 -0000 (Thu, 16 Oct 2025) EndedAt: 2025-10-16 21:49:06 -0000 (Thu, 16 Oct 2025) EllapsedTime: 37.3 seconds RetCode: 0 Status: OK